BEGIN:VCALENDAR

VERSION:2.0

PRODID:-//hacksw/handcal//NONSGML v1.0//EN

BEGIN:VEVENT

UID:3598fd67459893e450576d0cc3b76aa0

DTSTAMP:20260422T142456Z

DTSTART:20260423T143000

DTEND:20260423T150000

SUMMARY:27B94B74-F25C-46B8-8A61-94F609D35891 - 88 Headingley Road, MOUNT WAVERLEY VIC 3149

LOCATION:88 Headingley Road, MOUNT WAVERLEY VIC 3149

END:VEVENT

END:VCALENDAR