BEGIN:VCALENDAR

VERSION:2.0

PRODID:-//hacksw/handcal//NONSGML v1.0//EN

BEGIN:VEVENT

UID:451c8fb14fba9daa5d87008fb5d28334

DTSTAMP:20260422T142149Z

DTSTART:20260425T151500

DTEND:20260425T154500

SUMMARY:27B94B74-F25C-46B8-8A61-94F609D35891 - 88 Headingley Road, MOUNT WAVERLEY VIC 3149

LOCATION:88 Headingley Road, MOUNT WAVERLEY VIC 3149

END:VEVENT

END:VCALENDAR